BEGIN:VCALENDAR
VERSION:2.0
PRODID:-//World Premiere Wisconsin - ECPv6.0.10//NONSGML v1.0//EN
CALSCALE:GREGORIAN
METHOD:PUBLISH
X-ORIGINAL-URL:https://worldpremierewisconsin.com
X-WR-CALDESC:Events for World Premiere Wisconsin
REFRESH-INTERVAL;VALUE=DURATION:PT1H
X-Robots-Tag:noindex
X-PUBLISHED-TTL:PT1H
BEGIN:VTIMEZONE
TZID:America/Chicago
BEGIN:DAYLIGHT
TZOFFSETFROM:-0600
TZOFFSETTO:-0500
TZNAME:CDT
DTSTART:20230312T080000
END:DAYLIGHT
BEGIN:STANDARD
TZOFFSETFROM:-0500
TZOFFSETTO:-0600
TZNAME:CST
DTSTART:20231105T070000
END:STANDARD
END:VTIMEZONE
BEGIN:VEVENT
DTSTART;TZID=America/Chicago:20230625T190000
DTEND;TZID=America/Chicago:20230625T190000
DTSTAMP:20260422T234448
CREATED:20230116T170646Z
LAST-MODIFIED:20231122T173725Z
UID:10000020-1687719600-1687719600@worldpremierewisconsin.com
SUMMARY:OUT OF THE BLUE -- Book and lyrics by Erin Hunsader\, Music by Haesun Suh
DESCRIPTION:Book and lyrics by Erin Hunsader\, Music by Haesun Suh \nOUT OF THE BLUE opens with sarcastic\, 16-year-old Jenny awaiting the results of her pregnancy test. When the results come back positive\, Jenny’s normal\, Midwestern life is turned upside down. \nHer rocky relationship with her adopted Mother\, Iris quickly becomes rockier once her secret is discovered. And\, while Jenny struggles making a decision regarding the pregnancy\, she also starts to wonder about her birth mother who she never knew- she was adopted when she was six from an orphanage in South Korea. \nFinally\, she declares she is going on a quest to South Korea to find her ‘real mom.’ Iris insists on going with her and the two feuding family members encounter more than they expected through funny scenes set in an unfamiliar landscape. Still\, the quest reveals answers to Jenny’s past while helping her decide what to do about her future. \nOUT OF THE BLUE takes place in the 1990’s before a woman’s right to choose was taken away. \nOn WPW Backstage by Mike Fischer \nFrom South Korea to Green Bay: Musical Out of the Blue Sings Universal Story to Bridge the Divide \nBlame Mom
URL:https://worldpremierewisconsin.com/event/out-of-the-blue/
LOCATION:2350 Weidner Center Drive\, 2350 Weidner Center Drive\, Green Bay\, WI\, 54311\, United States
CATEGORIES:Local Brew Upcoming,Full Runs,Greater Wisconsin Full Runs,Local Brew Full Runs
ATTACH;FMTTYPE=image/jpeg:https://worldpremierewisconsin.com/wp-content/uploads/2023/06/Erin-Hunsader-002.jpeg
END:VEVENT
BEGIN:VEVENT
DTSTART;TZID=America/Chicago:20230609T190000
DTEND;TZID=America/Chicago:20230609T190000
DTSTAMP:20260422T234448
CREATED:20230116T173058Z
LAST-MODIFIED:20231122T172244Z
UID:10000026-1686337200-1686337200@worldpremierewisconsin.com
SUMMARY:MICRO -- Book\, Music\, and Lyrics by Adam Qutaishat and Heidi Joosten
DESCRIPTION:MUSIC THEATRE OF MADISON \n— Book\, Music\, and Lyrics by Adam Qutaishat and Heidi Joosten —  \nWhen graduate student Ali makes a startling scientific discovery about microaggressions\, it’s up to her to decide whether to keep it to herself or share it with the world. With the help of her friend MJ\, and traversing the hurdles of problematic colleagues and Big Pharma\, Ali finds new truths in the world\, and in herself. This workshop will include a semi-staged reading\, ability to see renderings of sets and costumes for a potential full production\, and a talkback after the show to help the composers on their next step. \nOn WPW Backstage by Mike Fischer \nThe Sound Inside: Music Theatre of Madison Subverts Old System by Singing New Song \nThe Dream of a Common Language
URL:https://worldpremierewisconsin.com/event/micro-a-workshop-performance/
LOCATION:The Bur Oak\, 2262 Winnebago St\, Madison\, WI\, 53704\, United States
CATEGORIES:Local Brew Upcoming,Full Runs,Madison Full Runs,Local Brew Full Runs
ATTACH;FMTTYPE=image/jpeg:https://worldpremierewisconsin.com/wp-content/uploads/2023/06/dsc-4022websize_orig.jpeg
END:VEVENT
BEGIN:VEVENT
DTSTART;TZID=America/Chicago:20230526T160000
DTEND;TZID=America/Chicago:20230526T160000
DTSTAMP:20260422T234448
CREATED:20230116T165350Z
LAST-MODIFIED:20231122T173512Z
UID:10000017-1685116800-1685116800@worldpremierewisconsin.com
SUMMARY:THE LAST HOTEL by Marcia Jablonski
DESCRIPTION:SHAKE RAG ALLEY CENTER FOR THE ARTS \n— By Marcia Jablonski —  \nWhile waiting out a blizzard in a luxury hotel\, an art student\, her professor\, and a hotel employee are trying to determine how much intervention they should act on with the homeless artist they are trying to keep safe from the storm. \nOn WPW Backstage by Mike Fischer: \nA Heartless Homeland: New Play Asks Hard Questions About Homelessness in America
URL:https://worldpremierewisconsin.com/event/the-last-hotel/
LOCATION:Alley Stage\, 18 Shake Rag St.\, Mineral Point\, WI\, 53565\, United States
CATEGORIES:Local Brew Upcoming,Full Runs,Greater Wisconsin Full Runs,Local Brew Full Runs
ATTACH;FMTTYPE=image/png:https://worldpremierewisconsin.com/wp-content/uploads/2023/05/Screen-Shot-2023-05-23-at-9.16.03-AM.png
END:VEVENT
BEGIN:VEVENT
DTSTART;TZID=America/Chicago:20230521T180000
DTEND;TZID=America/Chicago:20230521T180000
DTSTAMP:20260422T234448
CREATED:20230217T191600Z
LAST-MODIFIED:20231122T172217Z
UID:10000766-1684692000-1684692000@worldpremierewisconsin.com
SUMMARY:MARGARET adapted by Marcella Kearns
DESCRIPTION:ILLYRIA PRODUCTIONS  \n— adapted by Marcella Kearns from William Shakespeare —  \nAn adaptation of the Wars of the Roses plays for young performers\, focused on Queen Margaret. \nOn WPW Backstage by Mike Fischer\nIllyria Productions’ Sunday Reading of Margaret Postponed: For Now\, You’ll Need to Settle for Rewatching Game of Thrones \nMove Over\, Cersei! Upcoming Reading Showcases Shakespearean Inspiration for Game of Thrones \nWhy Do We Fight? And What’s Worth Fighting For?
URL:https://worldpremierewisconsin.com/event/margaret/
LOCATION:Young Shakespeare Players\, 1806 West Lawn Avenue\, Madison\, WI\, 53711\, United States
CATEGORIES:Local Brew Upcoming,Full Runs,Madison Full Runs,Local Brew Full Runs
ATTACH;FMTTYPE=image/jpeg:https://worldpremierewisconsin.com/wp-content/uploads/2023/05/Marcella-Kearns.jpeg
END:VEVENT
BEGIN:VEVENT
DTSTART;TZID=America/Chicago:20230521T160000
DTEND;TZID=America/Chicago:20230521T160000
DTSTAMP:20260422T234448
CREATED:20230404T164937Z
LAST-MODIFIED:20231011T183614Z
UID:10001176-1684684800-1684684800@worldpremierewisconsin.com
SUMMARY:A CAPPOCALYPSE! OR; Oconomowocapella’s A Cappella Practice Has Been Canceled! by Andrew Hobgood\, Joe Lino\, Jaimelyn Gray\, and The Constructivists
DESCRIPTION:THE CONSTRUCTIVISTS \n— by Andrew Hobgood\, Joe Lino\, Jaimelyn Gray\, and The Constructivists —  \nThe 39th Annual Upper Midwest Regional A Cappella Championships are mere days away. The final practice is tonight. And most of the ensemble is late. The group’s leader finally gets things moving\, and the ensemble is just about to start warming up when the last ensemble member finally arrives: covered in blood and blathering about how it’s raining sheep blood outside. Is it raining blood? Is it sheep blood? Did Myron remember the pitch pipe?! All of these questions and more will be answered! \nOn WPW Backstage by Mike Fischer\nThe Way We Live Now: Finding Community and Speaking Truth in a Divided America
URL:https://worldpremierewisconsin.com/event/a_cappocalypse/
LOCATION:Interchange Theater\, 628 N 10th St\, Milwaukee\, WI\, United States
CATEGORIES:Local Brew Upcoming,Full Runs,Milwaukee Full Runs,Local Brew Full Runs
ATTACH;FMTTYPE=image/png:https://worldpremierewisconsin.com/wp-content/uploads/2023/04/OACPHBC-_-The-Constructivists-1000x740-WPW-w-Info.png
END:VEVENT
BEGIN:VEVENT
DTSTART;TZID=America/Chicago:20230520T193000
DTEND;TZID=America/Chicago:20230520T193000
DTSTAMP:20260422T234448
CREATED:20230303T201604Z
LAST-MODIFIED:20231122T173429Z
UID:10000784-1684611000-1684611000@worldpremierewisconsin.com
SUMMARY:THE KENOSHA VERBATIM PROJECT by Nora Carroll\, Rayven Craft\, Katherine Layendecker\, Martin McClendon
DESCRIPTION:CARTHAGE COLLEGE THEATRE \n— by Nora Carroll\, Rayven Craft\, Katherine Layendecker\, Martin McClendon —  \nIn the summer of 2020\, Jacob Blake was shot seven times in the back by a Kenosha police officer\, touching off a chain of events that led to protests and major incidents in downtown Kenosha\, including the killing of two protesters by teenager Kyle Rittenhouse. What has happened since then? How has Kenosha changed or not changed? How do people view their city since these incidents? How do we move ahead? \nCarthage Theatre faculty and students are creating a piece of reality-based verbatim theatre that will examine how the people of our community have navigated the aftermath. Collecting material through interviews with community members as well as through researching trial transcripts\, news articles\, and other documents\, the team will create a script using the actual words of the people who experienced it. \nOn WPW Backstage by Mike Fischer\nThe Way We Live Now: Finding Community and Speaking Truth in a Divided America
URL:https://worldpremierewisconsin.com/event/kenosha-verbatim-project/
LOCATION:Wartburg Theatre\, Carthage College\, 2001 Alford Park Drive\, Kenosha\, WI\, 53140\, United States
CATEGORIES:Local Brew Upcoming,Full Runs,Greater Wisconsin Full Runs,Local Brew Full Runs
ATTACH;FMTTYPE=image/png:https://worldpremierewisconsin.com/wp-content/uploads/2023/05/KVP.png
END:VEVENT
BEGIN:VEVENT
DTSTART;TZID=America/Chicago:20230515T190000
DTEND;TZID=America/Chicago:20230515T190000
DTSTAMP:20260422T234448
CREATED:20230404T153633Z
LAST-MODIFIED:20231011T183519Z
UID:10001155-1684177200-1684177200@worldpremierewisconsin.com
SUMMARY:HYPOTHETICALS by Rebecca Anne Nguyen
DESCRIPTION:SELF-PRODUCED \n— by Rebecca Anne Nguyen —  \n“Hypotheticals” is a romantic comedy about a beautiful but misanthropic woman who kisses a stranger in an elevator on her way to psychotherapy. When the stranger turns out to be her new therapist\, they’re forced into a professional relationship where the intimate environment is as fertile for romantic tension as it is for personal growth—until the revelation of a mutual secret threatens to bind them together or tear them apart. \nOn WPW Backstage by Mike Fischer \nThe Reality of an Illusion: Reflections on Rebecca Anne Nguyen’s HYPOTHETICALS
URL:https://worldpremierewisconsin.com/event/hypotheticals/
LOCATION:Sunstone Studio\, 127 E Wells St\, Milwaukee\, WI\, 53202\, United States
CATEGORIES:Local Brew Upcoming,Full Runs,Milwaukee Full Runs,Local Brew Full Runs
ATTACH;FMTTYPE=image/png:https://worldpremierewisconsin.com/wp-content/uploads/2023/05/RebeccaNguyen.png
END:VEVENT
BEGIN:VEVENT
DTSTART;TZID=America/Chicago:20230426T190000
DTEND;TZID=America/Chicago:20230426T190000
DTSTAMP:20260422T234448
CREATED:20230130T220626Z
LAST-MODIFIED:20231011T183427Z
UID:10000530-1682535600-1682535600@worldpremierewisconsin.com
SUMMARY:THE FORGOTTEN GIRL by Idris Goodwin
DESCRIPTION:FIRST STAGE \n — By Idris Goodwin —  \nOn a cold winter night\, Iris and her best friend\, Daniel\, play in the freshly fallen snow in the woods when they stumble upon the gravestone of a young girl\, Avery Moore. Strange things begin to happen\, and Iris and Daniel research the area to find answers. They learn of their town’s history of segregation\, and become determined to restore Avery’s grave and pay proper respect for her and others buried there. A ghostly tale with a historical twist\, this empowering tale examines the connection of past and present\, friendship\, and forgiveness. For families with young people ages 10 and up. \nOn WPW Backstage by Mike Fischer \nThe Great Awakening: First Stage and Black Arts MKE Dream a New Tomorrow for Black America
URL:https://worldpremierewisconsin.com/event/the-forgotten-girl/
LOCATION:Milwaukee Youth Arts Center\, 325 West Walnut St.\, Milwaukee\, WI\, 53212\, United States
CATEGORIES:Full Runs,Milwaukee Full Runs
ATTACH;FMTTYPE=image/jpeg:https://worldpremierewisconsin.com/wp-content/uploads/2023/05/Headshot2021-Present-scaled.jpeg
END:VEVENT
BEGIN:VEVENT
DTSTART;TZID=America/Chicago:20230415T180000
DTEND;TZID=America/Chicago:20230415T180000
DTSTAMP:20260422T234448
CREATED:20230405T172352Z
LAST-MODIFIED:20231122T172015Z
UID:10001177-1681581600-1681581600@worldpremierewisconsin.com
SUMMARY:La Follette High School's Devised Theatre Production
DESCRIPTION:LA FOLLETTE HIGH SCHOOL DRAMA \n— by La Follette High School Drama Students —  \nLa Follette High School Drama students had the opportunity to work side-by-side with Forward Theatre professionals to create their own theatrical production. With the help of Forward\, they were able to experience the complexities of the sides of theatre they don’t often see. They worked as one collaborative group to put on a showcase of their creativity with the sponsorship of Forward Theatre’s World Premiere Wisconsin.
URL:https://worldpremierewisconsin.com/event/la-follette/
LOCATION:La Follette High School Auditorium\, 702 Pflaum Road\, Madison\, 53716
CATEGORIES:Local Brew Upcoming,Full Runs,Madison Full Runs,Local Brew Full Runs
ATTACH;FMTTYPE=image/jpeg:https://worldpremierewisconsin.com/wp-content/uploads/2023/04/Placeholder1000x740.jpg
END:VEVENT
BEGIN:VEVENT
DTSTART;TZID=America/Chicago:20230413T193000
DTEND;TZID=America/Chicago:20230413T193000
DTSTAMP:20260422T234448
CREATED:20230217T190633Z
LAST-MODIFIED:20231122T171903Z
UID:10000765-1681414200-1681414200@worldpremierewisconsin.com
SUMMARY:DEAR THEO: THE LETTERS OF VINCENT VAN GOGH
DESCRIPTION:FERMAT’S LAST THEATER CO.  \n— \nMelvin Hinton will read from the letters\, Maggie Schenk will narrate\, with violin music from Diana Wheeler and many\, many images. \nNo artist is held in higher esteem than Dutch artist Vincent Van Gogh. His paintings appear not only on museum walls but on tee shirts\, coffee mugs\, and posters around the world. But to know the paintings and drawings is to know only one aspect of his genius. He wrote an estimated 2000 letters in his short life\, more than 600 to his brother Theo\, an art dealer in Paris\, who often supported Vincent financially and carefully preserved their correspondence. Many of them contained sketches as well. The letters document Vincent’s turbulent emotional life\, his wide and deep reading\, and his artistic development. And his belief\, despite a lack of commercial success\, that he was in fact\, a great artist. “You know the fireflies in Brazil that are so luminous that in the evening ladies stick them into their hair with pins. It’s very fine\, fame\, but see\, it is to the artist what the hairpin is to those insects.” —Vincent Van Gogh\, Arles\, 1888 \nOn WPW Backstage by Mike Fischer\nThe Arts Generate A Lot of Money. So Why Are So Many Artists Broke? \nWays of Seeing: Reflections on Fermat’s DEAR THEO and Forward’s ARTEMISIA
URL:https://worldpremierewisconsin.com/event/dear-theo-the-letters-of-vincent-van-gogh/
LOCATION:ArtLitLab\, 111 S. Livingston\, Madison\, WI\, 53703\, United States
CATEGORIES:Full Runs,Madison Full Runs,Local Brew Full Runs
ATTACH;FMTTYPE=image/png:https://worldpremierewisconsin.com/wp-content/uploads/2023/04/vanGogh1000x740.png
END:VEVENT
BEGIN:VEVENT
DTSTART;TZID=America/Chicago:20230327T190000
DTEND;TZID=America/Chicago:20230327T190000
DTSTAMP:20260422T234448
CREATED:20230130T221741Z
LAST-MODIFIED:20231122T173908Z
UID:10000539-1679943600-1679943600@worldpremierewisconsin.com
SUMMARY:THE BARBER AND THE UNNAMED PRINCE by Gavin Lawrence
DESCRIPTION:AMERICAN PLAYERS THEATRE \n— By Gavin Lawrence —  \nWinter Words\, is returning to the Touchstone – in-person for the first time since early 2020! Its arrival is thrilling\, and just in time to celebrate new works for a new year. A tradition for APT artists and guests alike\, Winter Words provides room to explore stories that are new to us\, with laser-focus on the language. \nA local icon’s death signals the end of an era and the beginning of a new look for a once-predominantly African American neighborhood in Washington\, DC. A world-premiere from the incredible Gavin Lawrence. \nOn WPW Backstage by Mike Fischer\nWinter’s Content Makes Glorious Summer – American Players Theatre Previews Tomorrow’s Classics Today
URL:https://worldpremierewisconsin.com/event/the-barber-and-the-unnamed-prince/
LOCATION:American Players Theatre | Touchstone Theatre\, 5950 Golf Course Road\, Spring Green\, WI\, 53588\, United States
CATEGORIES:Full Runs,Greater Wisconsin Full Runs
ATTACH;FMTTYPE=image/jpeg:https://worldpremierewisconsin.com/wp-content/uploads/2023/03/lawrence-gavin_new_web.jpeg
END:VEVENT
BEGIN:VEVENT
DTSTART;TZID=America/Chicago:20230325T190000
DTEND;TZID=America/Chicago:20230325T190000
DTSTAMP:20260422T234448
CREATED:20230130T222041Z
LAST-MODIFIED:20231122T173839Z
UID:10000540-1679770800-1679770800@worldpremierewisconsin.com
SUMMARY:YOU DON'T DESERVE TO DIE by Art Kopischke
DESCRIPTION:UW-GREEN BAY THEATRE & DANCE \n— By Art Kopischke — \nIn Koepsell House\, 5 college students who live together in a vegan co-op try to make a small difference as they plan their annual Earth Day party. But they begin to question the real effects of their actions when a food ethics discussion divides them. In Ephraim\, Wisconsin\, Kyle returns home to care for his dying father only to become trapped in his taxidermy basement workshop by a violent April snowstorm with his childhood friend\, two hunters\, and a mysteriously omniscient singing Dead Deer. Five actors play the characters of each distinct world as\, through ultimate catastrophe\, their lives begin to reflect each other’s. \nOn WPW Backstage by Mike Fischer\nSlouching Toward Bethlehem \nFiddling While Rome Burns? – Art Kopischke’s Play Explores How Progressives Process Climate Change
URL:https://worldpremierewisconsin.com/event/you-dont-deserve-to-die/
LOCATION:Jean Weidner Theatre\, 2350 Weidner Center Drive\, Green Bay\, WI\, 54311\, United States
CATEGORIES:Full Runs,Greater Wisconsin Full Runs,Local Brew Full Runs
ATTACH;FMTTYPE=image/png:https://worldpremierewisconsin.com/wp-content/uploads/2023/03/Screen-Shot-2023-03-15-at-12.10.35-PM.png
END:VEVENT
BEGIN:VEVENT
DTSTART;TZID=America/Chicago:20230312T150000
DTEND;TZID=America/Chicago:20230312T150000
DTSTAMP:20260422T234448
CREATED:20230307T161559Z
LAST-MODIFIED:20231122T171448Z
UID:10000786-1678633200-1678633200@worldpremierewisconsin.com
SUMMARY:A PERLIOUS GAME by Michael Lucchesi
DESCRIPTION:VILLAGE PLAYHOUSE \n— by Michael Lucchesi —  \nA Perilous Game is the story of those who resisted the Nazis within Germany\, including Wisconsin’s own Mildred Fish-Harnack. Imagine if Kurt and Sara Muller and de Brancovis from Watch on the Rhine and Rick Blaine\, Ilsa Lund\, Ugarte and Victor Lazlo from Casablanca all showed up to a party at Rob and Laura Petrie’s house from The Dick van Dyke Show.
URL:https://worldpremierewisconsin.com/event/a-perilous-game/
LOCATION:Interchange Theater\, 628 N 10th St\, Milwaukee\, WI\, United States
CATEGORIES:Full Runs,Milwaukee Full Runs,Local Brew Full Runs
ATTACH;FMTTYPE=image/jpeg:https://worldpremierewisconsin.com/wp-content/uploads/2023/03/118764548_3454557767961779_481599874359255675_n.jpeg
END:VEVENT
END:VCALENDAR